BEGIN:VCALENDAR
VERSION:2.0
PRODID:-//www.gigharboradventistfellowship.org//NONSGML kigkonsult.se iCalc
 reator 2.39.1//
CALSCALE:GREGORIAN
METHOD:PUBLISH
UID:0b5889b2-2863-4bbc-9654-e4a1c9065457
X-WR-CALNAME:www.gigharboradventistfellowship.org
X-WR-CALDESC:www.gigharboradventistfellowship.org
X-WR-TIMEZONE:America/Los_Angeles
X-LIC-LOCATION:America/Los_Angeles
BEGIN:VEVENT
UID:859f2b4f-148e-4f94-bba8-95d31156102c
DTSTAMP:20260422T144843Z
CLASS:PUBLIC
DTSTART;TZID=America/Los_Angeles:20260425T111500
DTEND;TZID=America/Los_Angeles:20260425T121500
SUMMARY:Worship Service
TRANSP:OPAQUE
BEGIN:VALARM
ACTION:DISPLAY
DESCRIPTION:Worship Service
TRIGGER:-PT15M
END:VALARM
END:VEVENT
END:VCALENDAR
